BEGIN:VCALENDAR
VERSION:2.0
PRODID:-//Glasgow Mountain Bike Club - ECPv5.8.1//NONSGML v1.0//EN
CALSCALE:GREGORIAN
METHOD:PUBLISH
X-WR-CALNAME:Glasgow Mountain Bike Club
X-ORIGINAL-URL:http://www.gmbc.org.uk
X-WR-CALDESC:Events for Glasgow Mountain Bike Club
BEGIN:VTIMEZONE
TZID:Europe/London
BEGIN:DAYLIGHT
TZOFFSETFROM:+0000
TZOFFSETTO:+0100
TZNAME:BST
DTSTART:20180325T010000
END:DAYLIGHT
BEGIN:STANDARD
TZOFFSETFROM:+0100
TZOFFSETTO:+0000
TZNAME:GMT
DTSTART:20181028T010000
END:STANDARD
END:VTIMEZONE
BEGIN:VEVENT
DTSTART;TZID=Europe/London:20180512T100000
DTEND;TZID=Europe/London:20180512T160000
DTSTAMP:20260425T112452
CREATED:20180426T112716Z
LAST-MODIFIED:20180426T112847Z
UID:11751-1526119200-1526140800@www.gmbc.org.uk
SUMMARY:Core Skills - TrailCoach Beginner MTB
DESCRIPTION:Get ready to tackle the trails with an introduction to Mountain Biking.\nDevelop a foundation of core skills and knowledge that will allow you to ride safely and comfortably while building confidence.
URL:http://www.gmbc.org.uk/event/core-skills-trailcoach-beginner-mtb/
LOCATION:Cathkin Braes MTB
CATEGORIES:TrailCoach
ORGANIZER;CN="TrailCoach":MAILTO:info@trailcoach.co.uk
END:VEVENT
END:VCALENDAR