BEGIN:VCALENDAR
VERSION:2.0
PRODID:-//Glasgow Mountain Bike Club - ECPv5.8.1//NONSGML v1.0//EN
CALSCALE:GREGORIAN
METHOD:PUBLISH
X-WR-CALNAME:Glasgow Mountain Bike Club
X-ORIGINAL-URL:http://www.gmbc.org.uk
X-WR-CALDESC:Events for Glasgow Mountain Bike Club
BEGIN:VTIMEZONE
TZID:Europe/London
BEGIN:DAYLIGHT
TZOFFSETFROM:+0000
TZOFFSETTO:+0100
TZNAME:BST
DTSTART:20180325T010000
END:DAYLIGHT
BEGIN:STANDARD
TZOFFSETFROM:+0100
TZOFFSETTO:+0000
TZNAME:GMT
DTSTART:20181028T010000
END:STANDARD
END:VTIMEZONE
BEGIN:VEVENT
DTSTART;TZID=Europe/London:20180613T183000
DTEND;TZID=Europe/London:20180613T210000
DTSTAMP:20260425T125332
CREATED:20180522T235154Z
LAST-MODIFIED:20180612T234103Z
UID:11761-1528914600-1528923600@www.gmbc.org.uk
SUMMARY:Dumyat Ride - postponed
DESCRIPTION:Steep\, steep up.  Steep\, steep down.  Make no mistake\, this is a tough wee ride. \nMeet at the Co-op car park in Bridge of Allan
URL:http://www.gmbc.org.uk/event/dumyat-ride-3/
LOCATION:12 Fountain Rd\, Bridge of Allan\, Stirling FK9 4ET\, 12 Fountain Rd\, Bridge of Allan\, FK9 4ET\, United Kingdom
CATEGORIES:Ride - MTB (Black)
END:VEVENT
END:VCALENDAR