BEGIN:VCALENDAR
VERSION:2.0
PRODID:-//Glasgow Mountain Bike Club - ECPv5.8.1//NONSGML v1.0//EN
CALSCALE:GREGORIAN
METHOD:PUBLISH
X-WR-CALNAME:Glasgow Mountain Bike Club
X-ORIGINAL-URL:http://www.gmbc.org.uk
X-WR-CALDESC:Events for Glasgow Mountain Bike Club
BEGIN:VTIMEZONE
TZID:Europe/London
BEGIN:DAYLIGHT
TZOFFSETFROM:+0000
TZOFFSETTO:+0100
TZNAME:BST
DTSTART:20180325T010000
END:DAYLIGHT
BEGIN:STANDARD
TZOFFSETFROM:+0100
TZOFFSETTO:+0000
TZNAME:GMT
DTSTART:20181028T010000
END:STANDARD
END:VTIMEZONE
BEGIN:VEVENT
DTSTART;TZID=Europe/London:20180530T190000
DTEND;TZID=Europe/London:20180530T213000
DTSTAMP:20260425T171700
CREATED:20180524T191509Z
LAST-MODIFIED:20180524T191509Z
UID:11775-1527706800-1527715800@www.gmbc.org.uk
SUMMARY:Introductory Ride
DESCRIPTION:Chilled out\, sociable\, friendly and ideal for new riders or riders new to the club.  Come along and join us for the evening ride and stay for a cuppa and biscuits afterwards. \nAll you need is a well maintained off road suitable bike\, a spare tube\, pump and multi-tool and some enthusiasm.  You may want to take a bike light with you just in case we’re delayed on our return to the hall. \nRemember: no-helmet\, no ride! \nWe meet at the club hall (Milngavie & Bearsden Sports Club)
URL:http://www.gmbc.org.uk/event/introductory-ride-96/
LOCATION:Club Hall (MBSC)\, Auchenhowie Road \, Milngavie\, G62 6EJ\, United Kingdom
CATEGORIES:Ride - MTB (Blue)
ORGANIZER;CN="Committee":MAILTO:info@gmbc.co.uk
END:VEVENT
END:VCALENDAR