BEGIN:VCALENDAR
VERSION:2.0
PRODID:-//Glasgow Mountain Bike Club - ECPv5.8.1//NONSGML v1.0//EN
CALSCALE:GREGORIAN
METHOD:PUBLISH
X-WR-CALNAME:Glasgow Mountain Bike Club
X-ORIGINAL-URL:http://www.gmbc.org.uk
X-WR-CALDESC:Events for Glasgow Mountain Bike Club
BEGIN:VTIMEZONE
TZID:Europe/London
BEGIN:DAYLIGHT
TZOFFSETFROM:+0000
TZOFFSETTO:+0100
TZNAME:BST
DTSTART:20180325T010000
END:DAYLIGHT
BEGIN:STANDARD
TZOFFSETFROM:+0100
TZOFFSETTO:+0000
TZNAME:GMT
DTSTART:20181028T010000
END:STANDARD
END:VTIMEZONE
BEGIN:VEVENT
DTSTART;TZID=Europe/London:20180728T103000
DTEND;TZID=Europe/London:20180728T170000
DTSTAMP:20260425T142340
CREATED:20180523T000143Z
LAST-MODIFIED:20180703T195306Z
UID:11764-1532773800-1532797200@www.gmbc.org.uk
SUMMARY:Round 2 of Comrie Croft Mega Larking Tit About
DESCRIPTION:Mucking about at Comrie Croft – where the blues are red\, the reds are blacks and the blacks are\, well\, quite black.
URL:http://www.gmbc.org.uk/event/round-2-of-comrie-croft-mega-larking-tit-about/
LOCATION:Comrie Croft\, Baincroft\, Crieff\, PH7 4JZ\, United Kingdom
CATEGORIES:Ride – MTB (Red)
END:VEVENT
END:VCALENDAR