BEGIN:VCALENDAR
VERSION:2.0
PRODID:-//Glasgow Mountain Bike Club - ECPv5.8.1//NONSGML v1.0//EN
CALSCALE:GREGORIAN
METHOD:PUBLISH
X-WR-CALNAME:Glasgow Mountain Bike Club
X-ORIGINAL-URL:http://www.gmbc.org.uk
X-WR-CALDESC:Events for Glasgow Mountain Bike Club
BEGIN:VTIMEZONE
TZID:Europe/London
BEGIN:DAYLIGHT
TZOFFSETFROM:+0000
TZOFFSETTO:+0100
TZNAME:BST
DTSTART:20180325T010000
END:DAYLIGHT
BEGIN:STANDARD
TZOFFSETFROM:+0100
TZOFFSETTO:+0000
TZNAME:GMT
DTSTART:20181028T010000
END:STANDARD
END:VTIMEZONE
BEGIN:VEVENT
DTSTART;TZID=Europe/London:20180408T100000
DTEND;TZID=Europe/London:20180408T150000
DTSTAMP:20260425T115458
CREATED:20180320T064006Z
LAST-MODIFIED:20180403T000642Z
UID:11699-1523181600-1523199600@www.gmbc.org.uk
SUMMARY:Trail Maintenance - Session 2
DESCRIPTION:A day of good\, honest graft to help support Mugdock Country Park maintaining their path network.  The day’s work is planned from 10am to approx 3pm.  The plan is to do some work on Riverside.  One section in particular is becoming a wide muddy mess so the Ranger is suggesting some surfacing to keep the path defined.  It’ll need quite a few bodies to complete it on the day so if you’re free please put yourself forward. \nMeet at the boulders on Khyber Road. \nIf you want to join this session then please email info[AT]gmbc[DOT]org[DOT]uk so we can plan the work etc.
URL:http://www.gmbc.org.uk/event/trail-maintenance-session-2/
CATEGORIES:Trail Maintenance
END:VEVENT
END:VCALENDAR