BEGIN:VCALENDAR
VERSION:2.0
PRODID:-//Glasgow Mountain Bike Club - ECPv5.8.1//NONSGML v1.0//EN
CALSCALE:GREGORIAN
METHOD:PUBLISH
X-WR-CALNAME:Glasgow Mountain Bike Club
X-ORIGINAL-URL:http://www.gmbc.org.uk
X-WR-CALDESC:Events for Glasgow Mountain Bike Club
BEGIN:VTIMEZONE
TZID:Europe/Paris
BEGIN:DAYLIGHT
TZOFFSETFROM:+0100
TZOFFSETTO:+0200
TZNAME:CEST
DTSTART:20170326T010000
END:DAYLIGHT
BEGIN:STANDARD
TZOFFSETFROM:+0200
TZOFFSETTO:+0100
TZNAME:CET
DTSTART:20171029T010000
END:STANDARD
END:VTIMEZONE
BEGIN:VEVENT
DTSTART;TZID=Europe/Paris:20170401T100000
DTEND;TZID=Europe/Paris:20170401T150000
DTSTAMP:20260419T104205
CREATED:20170206T134151Z
LAST-MODIFIED:20170206T134158Z
UID:11018-1491040800-1491058800@www.gmbc.org.uk
SUMMARY:Trail Maintenance: Take Care Of Your Trails Event
DESCRIPTION:Details TBC \nPart of the “Take Care Of You Trails” Weekend
URL:http://www.gmbc.org.uk/event/trail-maintenance-take-care-of-your-trails-event/
CATEGORIES:Trail Maintenance
END:VEVENT
END:VCALENDAR