BEGIN:VCALENDAR
VERSION:2.0
PRODID:-//Glasgow Mountain Bike Club - ECPv5.8.1//NONSGML v1.0//EN
CALSCALE:GREGORIAN
METHOD:PUBLISH
X-WR-CALNAME:Glasgow Mountain Bike Club
X-ORIGINAL-URL:http://www.gmbc.org.uk
X-WR-CALDESC:Events for Glasgow Mountain Bike Club
BEGIN:VTIMEZONE
TZID:Europe/London
BEGIN:DAYLIGHT
TZOFFSETFROM:+0000
TZOFFSETTO:+0100
TZNAME:BST
DTSTART:20180325T010000
END:DAYLIGHT
BEGIN:STANDARD
TZOFFSETFROM:+0100
TZOFFSETTO:+0000
TZNAME:GMT
DTSTART:20181028T010000
END:STANDARD
END:VTIMEZONE
BEGIN:VEVENT
DTSTART;TZID=Europe/London:20180407T100000
DTEND;TZID=Europe/London:20180407T160000
DTSTAMP:20260425T115239
CREATED:20180316T111514Z
LAST-MODIFIED:20180320T062816Z
UID:11685-1523095200-1523116800@www.gmbc.org.uk
SUMMARY:TrailCoach - Beginner MTB
DESCRIPTION:Get ready to tackle the trails with an introduction to Mountain Biking.\nDevelop a foundation of core skills and knowledge that will allow you to ride safely and comfortably while building confidence. \nDuring the group session we cover topics such as\, but not limited to: \n\nBike Setup\nBody Position & Movement\nChanging Gears\nBraking\nTurning\nDescending\nClimbing
URL:http://www.gmbc.org.uk/event/trailcoach-beginner-mtb/
LOCATION:Cathkin Braes MTB
CATEGORIES:TrailCoach,Training Course
ORGANIZER;CN="TrailCoach":MAILTO:info@trailcoach.co.uk
END:VEVENT
END:VCALENDAR